BEGIN:VCALENDAR
VERSION:2.0
PRODID:-//Christ Episcopal Church, West River - ECPv6.15.20//NONSGML v1.0//EN
CALSCALE:GREGORIAN
METHOD:PUBLISH
X-WR-CALNAME:Christ Episcopal Church, West River
X-ORIGINAL-URL:https://christchurchwestriver.org
X-WR-CALDESC:Events for Christ Episcopal Church, West River
REFRESH-INTERVAL;VALUE=DURATION:PT1H
X-Robots-Tag:noindex
X-PUBLISHED-TTL:PT1H
BEGIN:VTIMEZONE
TZID:America/New_York
BEGIN:DAYLIGHT
TZOFFSETFROM:-0500
TZOFFSETTO:-0400
TZNAME:EDT
DTSTART:20250309T070000
END:DAYLIGHT
BEGIN:STANDARD
TZOFFSETFROM:-0400
TZOFFSETTO:-0500
TZNAME:EST
DTSTART:20251102T060000
END:STANDARD
BEGIN:DAYLIGHT
TZOFFSETFROM:-0500
TZOFFSETTO:-0400
TZNAME:EDT
DTSTART:20260308T070000
END:DAYLIGHT
BEGIN:STANDARD
TZOFFSETFROM:-0400
TZOFFSETTO:-0500
TZNAME:EST
DTSTART:20261101T060000
END:STANDARD
BEGIN:DAYLIGHT
TZOFFSETFROM:-0500
TZOFFSETTO:-0400
TZNAME:EDT
DTSTART:20270314T070000
END:DAYLIGHT
BEGIN:STANDARD
TZOFFSETFROM:-0400
TZOFFSETTO:-0500
TZNAME:EST
DTSTART:20271107T060000
END:STANDARD
END:VTIMEZONE
BEGIN:VEVENT
DTSTART;TZID=America/New_York:20260301T140000
DTEND;TZID=America/New_York:20260301T140000
DTSTAMP:20260425T192236
CREATED:20260218T185314Z
LAST-MODIFIED:20260218T185428Z
UID:10000056-1772373600-1772373600@christchurchwestriver.org
SUMMARY:Installation of our Priest-in-Charge\, the Rev. Olabanji Onamuti
DESCRIPTION:Followed by dinner in the Parish Hall. There will be no 10am service on March 1. \nSee our News & Events page for more upcoming events.
URL:https://christchurchwestriver.org/event/installation-of-our-priest-in-charge-the-rev-olabanji-onamuti/
LOCATION:Christ Episcopal Church\, 220 Owensville Road\, West River\, MD\, 20778\, United States
CATEGORIES:Featured
ATTACH;FMTTYPE=image/jpeg:https://christchurchwestriver.org/wp-content/uploads/sites/87/2025/08/Church-Exterior-Back.jpg
END:VEVENT
END:VCALENDAR